BEGIN:VCALENDAR
VERSION:2.0
PRODID:-//wp-events-plugin.com//7.2.3.1//EN
BEGIN:VEVENT
UID:30@rnsit.ac.in
DTSTART:20240323T000000Z
DTEND:20240323T000000Z
DTSTAMP:20240322T100015Z
URL:https://www.rnsit.ac.in/events/the-art-of-resume-writing-for-1-sem-mca
 -students/
SUMMARY:The Art of Resume Writing For 1 Sem MCA Students
DESCRIPTION:
ATTACH;FMTTYPE=image/jpeg:https://www.rnsit.ac.in/wp-content/uploads/2024/
 03/the-art-of-resume-writing-for-1-sem-mca-students.jpg
END:VEVENT
END:VCALENDAR