BEGIN:VCALENDAR
VERSION:2.0
PRODID:-//wp-events-plugin.com//7.2.3.1//EN
BEGIN:VEVENT
UID:11@rnsit.ac.in
DTSTART:20240210T000000Z
DTEND:20240210T000000Z
DTSTAMP:20240210T044227Z
URL:https://www.rnsit.ac.in/events/technical-talk-full-stack-development/
SUMMARY:Technical Talk Full Stack Development
DESCRIPTION:
ATTACH;FMTTYPE=image/jpeg:https://www.rnsit.ac.in/wp-content/uploads/2024/
 02/technical-talk-full-stack-development.webp
END:VEVENT
END:VCALENDAR