BEGIN:VCALENDAR
VERSION:2.0
PRODID:-//wp-events-plugin.com//7.2.3.1//EN
BEGIN:VEVENT
UID:27@rnsit.ac.in
DTSTART:20240322T000000Z
DTEND:20240322T000000Z
DTSTAMP:20240318T050853Z
URL:https://www.rnsit.ac.in/events/ieee-international-conference/
SUMMARY:IEEE International Conference
DESCRIPTION:
ATTACH;FMTTYPE=image/jpeg:https://www.rnsit.ac.in/wp-content/uploads/2024/
 03/ieee-international-conference.webp
END:VEVENT
END:VCALENDAR