BEGIN:VCALENDAR
VERSION:2.0
PRODID:-//wp-events-plugin.com//7.2.3.1//EN
BEGIN:VEVENT
UID:84@rnsit.ac.in
DTSTART:20250519T000000Z
DTEND:20250519T000000Z
DTSTAMP:20250520T111415Z
URL:https://www.rnsit.ac.in/events/code-quest/
SUMMARY:Code Quest
DESCRIPTION:
ATTACH;FMTTYPE=image/jpeg:https://www.rnsit.ac.in/wp-content/uploads/2025/
 05/code-quest.webp
END:VEVENT
END:VCALENDAR