BEGIN:VCALENDAR
VERSION:2.0
PRODID:-//wp-events-plugin.com//7.2.3.1//EN
BEGIN:VEVENT
UID:25@rnsit.ac.in
DTSTART:20240322T000000Z
DTEND:20240322T000000Z
DTSTAMP:20240318T050429Z
URL:https://www.rnsit.ac.in/events/challenges-of-communication-systems-for
 -lunar-and-planetary-missions/
SUMMARY:Challenges of Communication Systems for Lunar and Planetary Mission
 s
DESCRIPTION:
ATTACH;FMTTYPE=image/jpeg:https://www.rnsit.ac.in/wp-content/uploads/2024/
 03/challenges-of-communication-systems-for-lunar-and-planetary-missions.we
 bp
END:VEVENT
END:VCALENDAR